BEGIN:VCALENDAR
VERSION:2.0
PRODID:-//hacksw/handcal//NONSGML v1.0//EN
BEGIN:VEVENT
UID:a8ee009b0cf48b1fcc4b1e753a57e622
DTSTAMP:20260420T070421Z

DTSTART:20220402T100000
DTEND:20220403T170000
SUMMARY:Connecticut Spring Home Show 2022
DESCRIPTION:Connecticut Spring Home Show will be held Apr 2nd – 3rd, 2022 in Hartford, CT. This Hartford home show is held at Hartford XL Center and hosted by .\nThe 27th Annual Connecticut Spring Home Show is the largest Spring Home Show in New England.  Access the best home builders and contractors under one roof for 3 days!

X-ALT-DESC;FMTTYPE=text/html:<!DOCTYPE HTML PUBLIC "-//W3C//DTD HTML 3.2//EN">\n<HTML>\n<HEAD>\n<META NAME="Generator" CONTENT="MS Exchange Server version 08.00.0681.000">\n<TITLE></TITLE>\n</HEAD>\n<BODY>\n<!-- Converted from text/rtf format -->\n\n<p>Connecticut Spring Home Show will be held Apr 2nd – 3rd, 2022 in Hartford, CT. This Hartford home show is held at Hartford XL Center and hosted by .</p><br /><p>The 27th Annual Connecticut Spring Home Show is the largest Spring Home Show in New England.  Access the best home builders and contractors under one roof for 3 days!</p>\n\n</BODY>\n</HTML>

LOCATION:Hartford, Hartford County, Connecticut, United States
END:VEVENT

END:VCALENDAR
