BEGIN:VCALENDAR
VERSION:2.0
PRODID:-//hacksw/handcal//NONSGML v1.0//EN
BEGIN:VEVENT
UID:99120e450fc1b83a157e286818c9d6b4
DTSTAMP:20260420T061130Z

DTSTART:20220402T100000
DTEND:20220402T160000
SUMMARY:City of Melbourne Home Show 2022
DESCRIPTION:City of Melbourne Home Show will be held Apr 2nd – 3rd, 2022 in Melbourne, FL. This Melbourne home show is held at Melbourne Auditorium and hosted by East Coast Consumer Shows.\nThe City of Melbourne Home Show is here to help you find everything for your home improvement projects! View and interact with the industry's hottest home and garden products! Meet with professionals who can help make your next remodeling, renovation, landscaping, patio or decorating project a big success.

X-ALT-DESC;FMTTYPE=text/html:<!DOCTYPE HTML PUBLIC "-//W3C//DTD HTML 3.2//EN">\n<HTML>\n<HEAD>\n<META NAME="Generator" CONTENT="MS Exchange Server version 08.00.0681.000">\n<TITLE></TITLE>\n</HEAD>\n<BODY>\n<!-- Converted from text/rtf format -->\n\n<p>City of Melbourne Home Show will be held Apr 2nd – 3rd, 2022 in Melbourne, FL. This Melbourne home show is held at Melbourne Auditorium and hosted by East Coast Consumer Shows.</p><br /><p>The City of Melbourne Home Show is here to help you find everything for your home improvement projects! View and interact with the industry's hottest home and garden products! Meet with professionals who can help make your next remodeling, renovation, landscaping, patio or decorating project a big success.</p>\n\n</BODY>\n</HTML>

LOCATION:Melbourne Auditorium, 625, East Hibiscus Boulevard, Melbourne, Brevard County, Florida, 32901, United States
END:VEVENT

END:VCALENDAR
