BEGIN:VCALENDAR
VERSION:2.0
PRODID:-//hacksw/handcal//NONSGML v1.0//EN
BEGIN:VEVENT
UID:0fcdde9b17a44e4fe25dd53e5dfb90cc
DTSTAMP:20260420T105624Z

DTSTART:20220408T100000
DTEND:20220410T160000
SUMMARY:Sahba Home and Garden Show 2022
DESCRIPTION:Sahba Home and Garden Show will be held Apr 8th – 10th, 2022 in Tucson, AZ. This Tucson home show is held at Tucson Community Center and hosted by .\nThe SAHBA Home and Garden Show will have over 300 exhibits with new products, services and ideas for making your home more comfortable, energy efficient and up-to-date!

X-ALT-DESC;FMTTYPE=text/html:<!DOCTYPE HTML PUBLIC "-//W3C//DTD HTML 3.2//EN">\n<HTML>\n<HEAD>\n<META NAME="Generator" CONTENT="MS Exchange Server version 08.00.0681.000">\n<TITLE></TITLE>\n</HEAD>\n<BODY>\n<!-- Converted from text/rtf format -->\n\n<p>Sahba Home and Garden Show will be held Apr 8th – 10th, 2022 in Tucson, AZ. This Tucson home show is held at Tucson Community Center and hosted by .</p><br /><p>The SAHBA Home and Garden Show will have over 300 exhibits with new products, services and ideas for making your home more comfortable, energy efficient and up-to-date!</p>\n\n</BODY>\n</HTML>

LOCATION:260, South Church Avenue, Barrio Viejo, Tucson, Pima County, Arizona, 85701, United States
END:VEVENT

END:VCALENDAR
