BEGIN:VCALENDAR
VERSION:2.0
PRODID:-//hacksw/handcal//NONSGML v1.0//EN
BEGIN:VEVENT
UID:1ae2e9d5f2815e8964bbdd17b48ed46c
DTSTAMP:20260420T021043Z

DTSTART:20220408T120000
DTEND:20220410T170000
SUMMARY:The Turlock Home Improvement Show 2022
DESCRIPTION:The Turlock Home Improvement Show will be held Apr 8th – 10th, 2022 in Turlock, CA. This Turlock home show is held at Stanislaus County Fairgrounds and hosted by .\nThe Turlock Home Improvement Show is making updating and improving your home much easier! Guests can get tips and new ideas to help improve and beautify their homes and yards.

X-ALT-DESC;FMTTYPE=text/html:<!DOCTYPE HTML PUBLIC "-//W3C//DTD HTML 3.2//EN">\n<HTML>\n<HEAD>\n<META NAME="Generator" CONTENT="MS Exchange Server version 08.00.0681.000">\n<TITLE></TITLE>\n</HEAD>\n<BODY>\n<!-- Converted from text/rtf format -->\n\n<p>The Turlock Home Improvement Show will be held Apr 8th – 10th, 2022 in Turlock, CA. This Turlock home show is held at Stanislaus County Fairgrounds and hosted by .</p><br /><p>The Turlock Home Improvement Show is making updating and improving your home much easier! Guests can get tips and new ideas to help improve and beautify their homes and yards.</p>\n\n</BODY>\n</HTML>

LOCATION:Broadway Park, Turlock, Stanislaus County, California, United States
END:VEVENT

END:VCALENDAR
