BEGIN:VCALENDAR
VERSION:2.0
PRODID:-//hacksw/handcal//NONSGML v1.0//EN
BEGIN:VEVENT
UID:e9ddeee3ad1812af21302151dabbfac2
DTSTAMP:20260420T005657Z

DTSTART:20220414T090000
DTEND:20220414T130000
SUMMARY:Divorce Issues in Real Estate Practice
DESCRIPTION:\nDivorcing couples are going through one of the most stressful times in their lives, and they need all the help they can get. Not just anyone's help, but knowledgeable help that only you will be able to provide for them.\n\nCost - $40\nCredits - 4\n \n\nInstructor Name: GREGG GREENSTEIN\nCompany Name: FRASCONA JOINER GOODMAN &amp; GREENSTEIN PC\n

X-ALT-DESC;FMTTYPE=text/html:<!DOCTYPE HTML PUBLIC "-//W3C//DTD HTML 3.2//EN">\n<HTML>\n<HEAD>\n<META NAME="Generator" CONTENT="MS Exchange Server version 08.00.0681.000">\n<TITLE></TITLE>\n</HEAD>\n<BODY>\n<!-- Converted from text/rtf format -->\n\n<div><br /><p>Divorcing couples are going through one of the most stressful times in their lives, and they need all the help they can get. Not just anyone's help, but knowledgeable help that only you will be able to provide for them.</p><br /></div><br /><div>Cost - $40</div><br /><div>Credits - 4</div><br /><div> </div><br /><div><br /><div><label>Instructor Name: </label>GREGG GREENSTEIN</div><br /><div><label>Company Name: </label>FRASCONA JOINER GOODMAN &amp; GREENSTEIN PC</div><br /></div>\n\n</BODY>\n</HTML>

LOCATION:
END:VEVENT

END:VCALENDAR
