BEGIN:VCALENDAR
VERSION:2.0
PRODID:-//hacksw/handcal//NONSGML v1.0//EN
BEGIN:VEVENT
UID:b31076723ffa7c1371f7f47b8da860b9
DTSTAMP:20260420T091652Z

DTSTART:20220413T130000
DTEND:20220413T140000
SUMMARY:Turn Contingent Buyer Into Cash Buyer - Apr 13
DESCRIPTION:Learn how New American Funding has created a portfolio product that will purchase the new home for cash then sell it back to your buyer.\nn this class, you will learn how New American Funding has created a portfolio product that will purchase the new home for cash then sell it back to your buyer. They can do this with or without a home to sell, but they have up to 90 days after the close of the cash purchase to buy it back. Their loan is same rate/terms as if they used traditional financing to begin with. This has been instrumental in getting buyers into the market that would otherwise be left on the sideline.\n\nClass will be taught by Dan Umbdenstock, New American Funding

X-ALT-DESC;FMTTYPE=text/html:<!DOCTYPE HTML PUBLIC "-//W3C//DTD HTML 3.2//EN">\n<HTML>\n<HEAD>\n<META NAME="Generator" CONTENT="MS Exchange Server version 08.00.0681.000">\n<TITLE></TITLE>\n</HEAD>\n<BODY>\n<!-- Converted from text/rtf format -->\n\n<p>Learn how New American Funding has created a portfolio product that will purchase the new home for cash then sell it back to your buyer.</p><br /><p>n this class, you will learn how New American Funding has created a portfolio product that will purchase the new home for cash then sell it back to your buyer. They can do this with or without a home to sell, but they have up to 90 days after the close of the cash purchase to buy it back. Their loan is same rate/terms as if they used traditional financing to begin with. This has been instrumental in getting buyers into the market that would otherwise be left on the sideline.<br /><br />Class will be taught by Dan Umbdenstock, New American Funding</p>\n\n</BODY>\n</HTML>

LOCATION:
END:VEVENT

END:VCALENDAR
