BEGIN:VCALENDAR
VERSION:2.0
PRODID:-//hacksw/handcal//NONSGML v1.0//EN
BEGIN:VEVENT
UID:64f496d1c6e2b70b222c4a05aeb06751
DTSTAMP:20260419T212009Z

DTSTART:20220930T100000
DTEND:20221002T220000
SUMMARY:Duquesne Light Home and Garden Show 2022
DESCRIPTION:Duquesne Light Home and Garden Show will be held Sep 30th – Oct 2nd, 2022 in Pittsburgh, PA. This Pittsburgh home show is held at Pittsburgh Convention Center and hosted by .\n\nThe 40th Annual Duquesne Light Pittsburgh Home and Garden Show is the region's most trusted marketplace. Everything for your home will be within 20 acres!

X-ALT-DESC;FMTTYPE=text/html:<!DOCTYPE HTML PUBLIC "-//W3C//DTD HTML 3.2//EN">\n<HTML>\n<HEAD>\n<META NAME="Generator" CONTENT="MS Exchange Server version 08.00.0681.000">\n<TITLE></TITLE>\n</HEAD>\n<BODY>\n<!-- Converted from text/rtf format -->\n\nDuquesne Light Home and Garden Show will be held Sep 30th – Oct 2nd, 2022 in Pittsburgh, PA. This Pittsburgh home show is held at Pittsburgh Convention Center and hosted by .<br /><br />The 40th Annual Duquesne Light Pittsburgh Home and Garden Show is the region's most trusted marketplace. Everything for your home will be within 20 acres!\n\n</BODY>\n</HTML>

LOCATION:1000, Fort Duquesne Boulevard, Downtown, Pittsburgh, Allegheny County, Pennsylvania, 15222, United States
END:VEVENT

END:VCALENDAR
