BEGIN:VCALENDAR
VERSION:2.0
PRODID:-//hacksw/handcal//NONSGML v1.0//EN
BEGIN:VEVENT
UID:2fa80fe8f2d26e90795b31a3e9a92557
DTSTAMP:20260420T075652Z

DTSTART:20230106T110000
DTEND:20230108T170000
SUMMARY:Florida’s Largest Winter Home Show 2023
DESCRIPTION:Florida’s Largest Winter Home Show will be held Jan 6th – 8th, 2023 in Tampa, FL. This Tampa home show is held at Florida State Fairgrounds and hosted by Florida's Largest Home Show.\n\nFlorida's Largest Winter Home Show will take place over the weekend in Florida! There will be everything you'll need to turn your house into a dream home.

X-ALT-DESC;FMTTYPE=text/html:<!DOCTYPE HTML PUBLIC "-//W3C//DTD HTML 3.2//EN">\n<HTML>\n<HEAD>\n<META NAME="Generator" CONTENT="MS Exchange Server version 08.00.0681.000">\n<TITLE></TITLE>\n</HEAD>\n<BODY>\n<!-- Converted from text/rtf format -->\n\nFlorida’s Largest Winter Home Show will be held Jan 6th – 8th, 2023 in Tampa, FL. This Tampa home show is held at Florida State Fairgrounds and hosted by Florida's Largest Home Show.<br /><br />Florida's Largest Winter Home Show will take place over the weekend in Florida! There will be everything you'll need to turn your house into a dream home.\n\n</BODY>\n</HTML>

LOCATION:Tampa, Hillsborough County, Florida, United States
END:VEVENT

END:VCALENDAR
