BEGIN:VCALENDAR
VERSION:2.0
PRODID:-//hacksw/handcal//NONSGML v1.0//EN
BEGIN:VEVENT
UID:bfff9aa43c17be3976b12a25b2aabb2b
DTSTAMP:20260420T072922Z

DTSTART:20230128T100000
DTEND:20230129T160000
SUMMARY:Idaho Remodeling and Design Show 2023
DESCRIPTION:Idaho Remodeling and Design Show will be held Jan 28th – 29th, 2023 in Boise, ID. This Boise home show is held at Boise Centre and hosted by IBL Events.\n\nVisit over 120 exhibits, attend the educational seminars and meet local design experts to get plenty of ideas for a whole new look for your home! Renovation of kitchens, bathrooms, flooring and room additions top the list of home improvement projects in the new year! Learn from the pro's how to make your dream home a reality!

X-ALT-DESC;FMTTYPE=text/html:<!DOCTYPE HTML PUBLIC "-//W3C//DTD HTML 3.2//EN">\n<HTML>\n<HEAD>\n<META NAME="Generator" CONTENT="MS Exchange Server version 08.00.0681.000">\n<TITLE></TITLE>\n</HEAD>\n<BODY>\n<!-- Converted from text/rtf format -->\n\nIdaho Remodeling and Design Show will be held Jan 28th – 29th, 2023 in Boise, ID. This Boise home show is held at Boise Centre and hosted by IBL Events.<br /><br />Visit over 120 exhibits, attend the educational seminars and meet local design experts to get plenty of ideas for a whole new look for your home! Renovation of kitchens, bathrooms, flooring and room additions top the list of home improvement projects in the new year! Learn from the pro's how to make your dream home a reality!\n\n</BODY>\n</HTML>

LOCATION:Boise Centre, 850, West Front Street, Downtown, Boise, Ada County, Idaho, 83702, United States
END:VEVENT

END:VCALENDAR
