BEGIN:VCALENDAR
VERSION:2.0
PRODID:-//hacksw/handcal//NONSGML v1.0//EN
BEGIN:VEVENT
UID:f3a2d1e5e7e1dcc9d8879bb9ce9c585c
DTSTAMP:20260420T010803Z

DTSTART:20230325T100000
DTEND:20230326T170000
SUMMARY:The Home Owners Expo of Harford County 2023
DESCRIPTION:The Home Owners Expo of Harford County will be held Mar 25th – 26th, 2023 in Bel Air, MD. This Bel Air home show is held at APG Federal Credit Union Arena and hosted by Mid Atlantic Expos.\n\nThe Home Owners Expo of Hartford County is a community event that provides local residents an opportunity to make connections with professionals. There will be local and regional companies offering amazing seminars, perspectives and ideas for your home!

X-ALT-DESC;FMTTYPE=text/html:<!DOCTYPE HTML PUBLIC "-//W3C//DTD HTML 3.2//EN">\n<HTML>\n<HEAD>\n<META NAME="Generator" CONTENT="MS Exchange Server version 08.00.0681.000">\n<TITLE></TITLE>\n</HEAD>\n<BODY>\n<!-- Converted from text/rtf format -->\n\nThe Home Owners Expo of Harford County will be held Mar 25th – 26th, 2023 in Bel Air, MD. This Bel Air home show is held at APG Federal Credit Union Arena and hosted by Mid Atlantic Expos.<br /><br />The Home Owners Expo of Hartford County is a community event that provides local residents an opportunity to make connections with professionals. There will be local and regional companies offering amazing seminars, perspectives and ideas for your home!\n\n</BODY>\n</HTML>

LOCATION:Bel Air, Harford County, Maryland, United States
END:VEVENT

END:VCALENDAR
