BEGIN:VCALENDAR
VERSION:2.0
PRODID:-//hacksw/handcal//NONSGML v1.0//EN
BEGIN:VEVENT
UID:41e3d2cdf5466cf55161b619db593f96
DTSTAMP:20260420T005747Z

DTSTART:20230428T110000
DTEND:20230430T170000
SUMMARY:Florida’s Largest Spring Home Show 2023
DESCRIPTION:Florida’s Largest Spring Home Show will be held Apr 28th-30th, 2023 in Tampa, FL. This Tampa home show is held at Florida State Fairgrounds and hosted by Florida's Largest Home Show.\n\nFlorida's Largest Spring Home Show will take place over the weekend in Florida! There will be everything you'll need to turn your house into a dream home.

X-ALT-DESC;FMTTYPE=text/html:<!DOCTYPE HTML PUBLIC "-//W3C//DTD HTML 3.2//EN">\n<HTML>\n<HEAD>\n<META NAME="Generator" CONTENT="MS Exchange Server version 08.00.0681.000">\n<TITLE></TITLE>\n</HEAD>\n<BODY>\n<!-- Converted from text/rtf format -->\n\nFlorida’s Largest Spring Home Show will be held Apr 28th-30th, 2023 in Tampa, FL. This Tampa home show is held at Florida State Fairgrounds and hosted by Florida's Largest Home Show.<br /><br />Florida's Largest Spring Home Show will take place over the weekend in Florida! There will be everything you'll need to turn your house into a dream home.\n\n</BODY>\n</HTML>

LOCATION:Tampa, Hillsborough County, Florida, United States
END:VEVENT

END:VCALENDAR
