BEGIN:VCALENDAR
VERSION:2.0
PRODID:-//hacksw/handcal//NONSGML v1.0//EN
BEGIN:VEVENT
UID:20f22d8d6c0239d733e29915a728430c
DTSTAMP:20260420T024906Z

DTSTART:20220506T100000
DTEND:20220508T170000
SUMMARY:Maricopa County Home Show 2022
DESCRIPTION:Shop Arizona's biggest & best Home & Garden Show for the best deals on patio, kitchen, bath, remodeling, turf, pools, granite and so much more! Featuring more than 800 vendor booths, seminars, classes and workshops and delicious food and beverage samples, the Home Show has something for EVERYONE.\n\nHighlights\nHome Remodeling\nGarden and Landscape\nShopping Booths

X-ALT-DESC;FMTTYPE=text/html:<!DOCTYPE HTML PUBLIC "-//W3C//DTD HTML 3.2//EN">\n<HTML>\n<HEAD>\n<META NAME="Generator" CONTENT="MS Exchange Server version 08.00.0681.000">\n<TITLE></TITLE>\n</HEAD>\n<BODY>\n<!-- Converted from text/rtf format -->\n\nShop Arizona's biggest & best Home & Garden Show for the best deals on patio, kitchen, bath, remodeling, turf, pools, granite and so much more! Featuring more than 800 vendor booths, seminars, classes and workshops and delicious food and beverage samples, the Home Show has something for EVERYONE.<br /><br />Highlights<br />Home Remodeling<br />Garden and Landscape<br />Shopping Booths\n\n</BODY>\n</HTML>

LOCATION:WestWorld, Scottsdale, Maricopa County, Arizona, United States
END:VEVENT

END:VCALENDAR
