BEGIN:VCALENDAR
VERSION:2.0
PRODID:-//hacksw/handcal//NONSGML v1.0//EN
BEGIN:VEVENT
UID:55d2c9dfd90bff667b151565b56d70f1
DTSTAMP:20260420T052007Z

DTSTART:20220909T080000
DTEND:20220911T180000
SUMMARY:The Ontario Home & Backyard Show 2022
DESCRIPTION:For nearly 10 years, we’ve partnered with the Ontario Convention Center to bring you one of the most anticipated Home Shows in the Inland Empire! Come check us out, and learn for yourself what it means to really take pride in your home.

X-ALT-DESC;FMTTYPE=text/html:<!DOCTYPE HTML PUBLIC "-//W3C//DTD HTML 3.2//EN">\n<HTML>\n<HEAD>\n<META NAME="Generator" CONTENT="MS Exchange Server version 08.00.0681.000">\n<TITLE></TITLE>\n</HEAD>\n<BODY>\n<!-- Converted from text/rtf format -->\n\nFor nearly 10 years, we’ve partnered with the Ontario Convention Center to bring you one of the most anticipated Home Shows in the Inland Empire! Come check us out, and learn for yourself what it means to really take pride in your home.\n\n</BODY>\n</HTML>

LOCATION:Ontario Convention Center, Racimo, Ontario, San Bernardino County, California, United States
END:VEVENT

END:VCALENDAR
