BEGIN:VCALENDAR
VERSION:2.0
PRODID:-//hacksw/handcal//NONSGML v1.0//EN
BEGIN:VEVENT
UID:4c4a796b2089e5da868ee4031b590601
DTSTAMP:20260420T041513Z

DTSTART:20221104T080000
DTEND:20221106T180000
SUMMARY:The Fall Home Show - Pomona 2022
DESCRIPTION:It’s that time of year again! As the weather starts to cool down, come check out the Fall Home Show at the Pomona Fairplex. Learn from our garden experts, home improvement professionals, and trustworthy contractors all the ways that you can make your house really feel like your dream home.

X-ALT-DESC;FMTTYPE=text/html:<!DOCTYPE HTML PUBLIC "-//W3C//DTD HTML 3.2//EN">\n<HTML>\n<HEAD>\n<META NAME="Generator" CONTENT="MS Exchange Server version 08.00.0681.000">\n<TITLE></TITLE>\n</HEAD>\n<BODY>\n<!-- Converted from text/rtf format -->\n\nIt’s that time of year again! As the weather starts to cool down, come check out the Fall Home Show at the Pomona Fairplex. Learn from our garden experts, home improvement professionals, and trustworthy contractors all the ways that you can make your house really feel like your dream home.\n\n</BODY>\n</HTML>

LOCATION:Fairplex Drive, Pomona, Los Angeles County, California, 91750, United States
END:VEVENT

END:VCALENDAR
