BEGIN:VCALENDAR
VERSION:2.0
PRODID:-//hacksw/handcal//NONSGML v1.0//EN
BEGIN:VEVENT
UID:31b1db7c077f68802ee650da1b1db668
DTSTAMP:20260420T044408Z

DTSTART:20221104T100000
DTEND:20221105T160000
SUMMARY:Naples Home and Garden Show 2022
DESCRIPTION:Naples Home and Garden Show will be held Nov 4th – 5th, 2022 in Naples, FL. This Naples home show is held at New Hope Event Center and hosted by Expo Management Inc..\n\nThe Naples Home and Garden Show will have the newest in home improvement products and services, landscaping and more! See the latest from floor to roof, patio to pool. There will be 3 seminars a day with Jim Parks of HGTV's "New Spaces", plus contests and plenty of fun!

X-ALT-DESC;FMTTYPE=text/html:<!DOCTYPE HTML PUBLIC "-//W3C//DTD HTML 3.2//EN">\n<HTML>\n<HEAD>\n<META NAME="Generator" CONTENT="MS Exchange Server version 08.00.0681.000">\n<TITLE></TITLE>\n</HEAD>\n<BODY>\n<!-- Converted from text/rtf format -->\n\nNaples Home and Garden Show will be held Nov 4th – 5th, 2022 in Naples, FL. This Naples home show is held at New Hope Event Center and hosted by Expo Management Inc..<br /><br />The Naples Home and Garden Show will have the newest in home improvement products and services, landscaping and more! See the latest from floor to roof, patio to pool. There will be 3 seminars a day with Jim Parks of HGTV's "New Spaces", plus contests and plenty of fun!\n\n</BODY>\n</HTML>

LOCATION:Davis Boulevard, East Naples, Collier County, Florida, 34104, United States
END:VEVENT

END:VCALENDAR
