BEGIN:VCALENDAR
VERSION:2.0
PRODID:-//hacksw/handcal//NONSGML v1.0//EN
BEGIN:VEVENT
UID:9dc5d43cf1b2fea97e987b4911c035fe
DTSTAMP:20260420T062541Z

DTSTART:20230901T110000
DTEND:20230904T170000
SUMMARY:Florida’s Largest Labor Day Weekend Show 2023
DESCRIPTION:Florida’s Largest Labor Day Weekend Show will be held Sep 1st – 4th, 2023 in Tampa, FL. This Tampa home show is held at Florida State Fairgrounds and hosted by Florida's Largest Home Show.\n\nFlorida's Largest Labor Day Weekend Home Show will take place over the labor day weekend in Florida! There will be everything for your home and so much more!

X-ALT-DESC;FMTTYPE=text/html:<!DOCTYPE HTML PUBLIC "-//W3C//DTD HTML 3.2//EN">\n<HTML>\n<HEAD>\n<META NAME="Generator" CONTENT="MS Exchange Server version 08.00.0681.000">\n<TITLE></TITLE>\n</HEAD>\n<BODY>\n<!-- Converted from text/rtf format -->\n\nFlorida’s Largest Labor Day Weekend Show will be held Sep 1st – 4th, 2023 in Tampa, FL. This Tampa home show is held at Florida State Fairgrounds and hosted by Florida's Largest Home Show.<br /><br />Florida's Largest Labor Day Weekend Home Show will take place over the labor day weekend in Florida! There will be everything for your home and so much more!\n\n</BODY>\n</HTML>

LOCATION:Tampa, Hillsborough County, Florida, United States
END:VEVENT

END:VCALENDAR
