BEGIN:VCALENDAR
VERSION:2.0
PRODID:-//hacksw/handcal//NONSGML v1.0//EN
BEGIN:VEVENT
UID:14a4b2886d2aeec5d7ed133af2b94552
DTSTAMP:20260420T075836Z

DTSTART:20220602T110000
DTEND:20220602T120000
SUMMARY:1st Quarter 2022 Trends with Bill Ezell and Lon Welsh
DESCRIPTION:Clients always ask “how’s the market?” This class gives you specific talking points to sound like an expert on the trends for the previous Quarter.\n\nWe also discuss how you can use the information for listing presentations, and for buyers that aren’t sure if “now is the time to trade up” or if they should wait until later.

X-ALT-DESC;FMTTYPE=text/html:<!DOCTYPE HTML PUBLIC "-//W3C//DTD HTML 3.2//EN">\n<HTML>\n<HEAD>\n<META NAME="Generator" CONTENT="MS Exchange Server version 08.00.0681.000">\n<TITLE></TITLE>\n</HEAD>\n<BODY>\n<!-- Converted from text/rtf format -->\n\nClients always ask “how’s the market?” This class gives you specific talking points to sound like an expert on the trends for the previous Quarter.<br /><br />We also discuss how you can use the information for listing presentations, and for buyers that aren’t sure if “now is the time to trade up” or if they should wait until later.\n\n</BODY>\n</HTML>

LOCATION:5675, DTC Boulevard, Denver Tech Center, Greenwood Village, Arapahoe County, Colorado, 80111, United States
END:VEVENT

END:VCALENDAR
