BEGIN:VCALENDAR
VERSION:2.0
PRODID:-//hacksw/handcal//NONSGML v1.0//EN
BEGIN:VEVENT
UID:cd2f087301d435dcfad031ad70ea5dac
DTSTAMP:20260420T102809Z

DTSTART:20220613T093000
DTEND:20220613T103000
SUMMARY:Is the Market Shifting? Take a Deep Dive into Real Estate Trends
DESCRIPTION:Clients always ask “how’s the market?” This class gives you specific talking points to sound like an expert on the trends for May 2022.  We also discuss how you can use the information for listing presentations, and for buyers that aren’t sure if “now is the time to trade up” or if they should wait until later.

X-ALT-DESC;FMTTYPE=text/html:<!DOCTYPE HTML PUBLIC "-//W3C//DTD HTML 3.2//EN">\n<HTML>\n<HEAD>\n<META NAME="Generator" CONTENT="MS Exchange Server version 08.00.0681.000">\n<TITLE></TITLE>\n</HEAD>\n<BODY>\n<!-- Converted from text/rtf format -->\n\nClients always ask “how’s the market?” This class gives you specific talking points to sound like an expert on the trends for May 2022.  We also discuss how you can use the information for listing presentations, and for buyers that aren’t sure if “now is the time to trade up” or if they should wait until later.\n\n</BODY>\n</HTML>

LOCATION:
END:VEVENT

END:VCALENDAR
