BEGIN:VCALENDAR
VERSION:2.0
PRODID:-//hacksw/handcal//NONSGML v1.0//EN
BEGIN:VEVENT
UID:398120442611382d0752fcd702a9facf
DTSTAMP:20260420T122620Z

DTSTART:20220614T100000
DTEND:20220614T113000
SUMMARY:Contractor Mechanics Liens: Consequences, Prevention and Resolution - Jun 14
DESCRIPTION:We will discuss contractor liens, how to prevent them in the first place, and how to deal with them so that they don’t derail your closing.\n\nIf you’re a fix & flipper you’ve probably had your fair share of contractor disputes.  Sometimes those disputes result in mechanics liens filed by contractors and/or their subs.  In this class, we will discuss contractor liens, how to prevent them in the first place, and how to deal with them so that they don’t derail your closing.

X-ALT-DESC;FMTTYPE=text/html:<!DOCTYPE HTML PUBLIC "-//W3C//DTD HTML 3.2//EN">\n<HTML>\n<HEAD>\n<META NAME="Generator" CONTENT="MS Exchange Server version 08.00.0681.000">\n<TITLE></TITLE>\n</HEAD>\n<BODY>\n<!-- Converted from text/rtf format -->\n\nWe will discuss contractor liens, how to prevent them in the first place, and how to deal with them so that they don’t derail your closing.<br /><br />If you’re a fix & flipper you’ve probably had your fair share of contractor disputes.  Sometimes those disputes result in mechanics liens filed by contractors and/or their subs.  In this class, we will discuss contractor liens, how to prevent them in the first place, and how to deal with them so that they don’t derail your closing.\n\n</BODY>\n</HTML>

LOCATION:
END:VEVENT

END:VCALENDAR
