BEGIN:VCALENDAR
VERSION:2.0
PRODID:-//hacksw/handcal//NONSGML v1.0//EN
BEGIN:VEVENT
UID:477b8075c54a799a97fd39da641d511e
DTSTAMP:20260420T035154Z

DTSTART:20221003T090000
DTEND:20221005T180000
SUMMARY:2022 HousingWire Annual 
DESCRIPTION:HousingWire Annual, the “Davos of Housing”, is where the community from across the housing ecosystem comes together to share strategies, drive business, discover new technologies, discuss best practices, and meet industry leaders. Our goal is to help industry executives learn, engage, and move the housing economy forward.

X-ALT-DESC;FMTTYPE=text/html:<!DOCTYPE HTML PUBLIC "-//W3C//DTD HTML 3.2//EN">\n<HTML>\n<HEAD>\n<META NAME="Generator" CONTENT="MS Exchange Server version 08.00.0681.000">\n<TITLE></TITLE>\n</HEAD>\n<BODY>\n<!-- Converted from text/rtf format -->\n\nHousingWire Annual, the “Davos of Housing”, is where the community from across the housing ecosystem comes together to share strategies, drive business, discover new technologies, discuss best practices, and meet industry leaders. Our goal is to help industry executives learn, engage, and move the housing economy forward.\n\n</BODY>\n</HTML>

LOCATION:7575, East Princess Drive, Scottsdale, Maricopa County, Arizona, 85255, United States
END:VEVENT

END:VCALENDAR
