BEGIN:VCALENDAR
VERSION:2.0
PRODID:-//hacksw/handcal//NONSGML v1.0//EN
BEGIN:VEVENT
UID:2c5781f421cc1c6fc00e5562dbe5f26d
DTSTAMP:20260420T054126Z

DTSTART:20221024T080000
DTEND:20221027T180000
SUMMARY:Century 21 Leadership Summit 2022
DESCRIPTION:Our annual Leadership Summit event is open to all Owners, Brokers and Managers of CENTURY 21. Join us for the opportunity to network with leaders looking to grow, and for access to customized learning sessions, crafted to elevate your knowledge around being successful in your company. You will walk away from these three days feeling more motivated and equipped to take your business to the next level, along with some fun memories with your C21 family. \n\n

X-ALT-DESC;FMTTYPE=text/html:<!DOCTYPE HTML PUBLIC "-//W3C//DTD HTML 3.2//EN">\n<HTML>\n<HEAD>\n<META NAME="Generator" CONTENT="MS Exchange Server version 08.00.0681.000">\n<TITLE></TITLE>\n</HEAD>\n<BODY>\n<!-- Converted from text/rtf format -->\n\nOur annual Leadership Summit event is open to all Owners, Brokers and Managers of CENTURY 21. Join us for the opportunity to network with leaders looking to grow, and for access to customized learning sessions, crafted to elevate your knowledge around being successful in your company. You will walk away from these three days feeling more motivated and equipped to take your business to the next level, along with some fun memories with your C21 family. <br /><br />\n\n</BODY>\n</HTML>

LOCATION:Arizona Grand Resort, 8000, South Arizona Grand Parkway, Phoenix, Maricopa County, Arizona, 85044, United States
END:VEVENT

END:VCALENDAR
