BEGIN:VCALENDAR
VERSION:2.0
PRODID:-//hacksw/handcal//NONSGML v1.0//EN
BEGIN:VEVENT
UID:9d4290f00b27af5def076a7a2dbab573
DTSTAMP:20260419T195942Z

DTSTART:20221025T080000
DTEND:20221027T180000
SUMMARY:2022 RESO Fall Conference
DESCRIPTION:RESO standards are the universal language for real estate that ensure interoperability for industry technology.\nRESO provides the foundation for streamlined real estate technology through the creation and certification of standards. Our member organizations include MLSs, brokerages, REALTOR® associations and technology partners serving more than one million real estate professionals. 

X-ALT-DESC;FMTTYPE=text/html:<!DOCTYPE HTML PUBLIC "-//W3C//DTD HTML 3.2//EN">\n<HTML>\n<HEAD>\n<META NAME="Generator" CONTENT="MS Exchange Server version 08.00.0681.000">\n<TITLE></TITLE>\n</HEAD>\n<BODY>\n<!-- Converted from text/rtf format -->\n\nRESO standards are the universal language for real estate that ensure interoperability for industry technology.<br />RESO provides the foundation for streamlined real estate technology through the creation and certification of standards. Our member organizations include MLSs, brokerages, REALTOR® associations and technology partners serving more than one million real estate professionals. \n\n</BODY>\n</HTML>

LOCATION:The Vinoy® Renaissance Saint Petersburg Resort & Golf Club, 501, 5th Avenue Northeast, Saint Petersburg, Pinellas County, Florida, 33701, United States
END:VEVENT

END:VCALENDAR
