BEGIN:VCALENDAR
VERSION:2.0
PRODID:-//hacksw/handcal//NONSGML v1.0//EN
BEGIN:VEVENT
UID:657e459fd7e7930f28b9d9ad0157e78e
DTSTAMP:20260420T051958Z

DTSTART:20230217T110000
DTEND:20230219T180000
SUMMARY:Downtown Raleigh Home Show 2023
DESCRIPTION:Downtown Raleigh Home Show will be held Feb 17th – 19th, 2023 in Raleigh, NC. This Raleigh home show is held at Raleigh Convention Center and hosted by .\n\nCome and meet the area's best vendors and businesses who can help make your home dream plans come true! There will be a Hero Day for all teachers, active Military personnel, Veterans, Fire, Police and First Responders. There will also be a Senior Day where seniors can get in for discounted prices.

X-ALT-DESC;FMTTYPE=text/html:<!DOCTYPE HTML PUBLIC "-//W3C//DTD HTML 3.2//EN">\n<HTML>\n<HEAD>\n<META NAME="Generator" CONTENT="MS Exchange Server version 08.00.0681.000">\n<TITLE></TITLE>\n</HEAD>\n<BODY>\n<!-- Converted from text/rtf format -->\n\nDowntown Raleigh Home Show will be held Feb 17th – 19th, 2023 in Raleigh, NC. This Raleigh home show is held at Raleigh Convention Center and hosted by .<br /><br />Come and meet the area's best vendors and businesses who can help make your home dream plans come true! There will be a Hero Day for all teachers, active Military personnel, Veterans, Fire, Police and First Responders. There will also be a Senior Day where seniors can get in for discounted prices.\n\n</BODY>\n</HTML>

LOCATION:Raleigh Convention Center, 500, South Salisbury Street, Warehouse District, Raleigh, Wake County, North Carolina, 27601, United States
END:VEVENT

END:VCALENDAR
