BEGIN:VCALENDAR
VERSION:2.0
PRODID:-//hacksw/handcal//NONSGML v1.0//EN
BEGIN:VEVENT
UID:bf2da384ba07b338e59d99c815330e5d
DTSTAMP:20260420T074044Z

DTSTART:20230414T100000
DTEND:20230416T180000
SUMMARY:Fairgrounds Southern Ideal Spring Home Show 2023
DESCRIPTION:Fairgrounds Southern Ideal Spring Home Show will be held Apr 14th – 16th, 2023 in Raleigh, NC. This Raleigh home show is held at North Carolina State Fairgrounds and hosted by .\n\nThe Fairgrounds Southern Ideal Home Show (Spring Edition) will have home improvement, deals and sales, inspiration, experts and so much more at their annual home event!

X-ALT-DESC;FMTTYPE=text/html:<!DOCTYPE HTML PUBLIC "-//W3C//DTD HTML 3.2//EN">\n<HTML>\n<HEAD>\n<META NAME="Generator" CONTENT="MS Exchange Server version 08.00.0681.000">\n<TITLE></TITLE>\n</HEAD>\n<BODY>\n<!-- Converted from text/rtf format -->\n\nFairgrounds Southern Ideal Spring Home Show will be held Apr 14th – 16th, 2023 in Raleigh, NC. This Raleigh home show is held at North Carolina State Fairgrounds and hosted by .<br /><br />The Fairgrounds Southern Ideal Home Show (Spring Edition) will have home improvement, deals and sales, inspiration, experts and so much more at their annual home event!\n\n</BODY>\n</HTML>

LOCATION:1025, Blue Ridge Road, Westover, Raleigh, Wake County, North Carolina, 27607, United States
END:VEVENT

END:VCALENDAR
