BEGIN:VCALENDAR
VERSION:2.0
PRODID:-//hacksw/handcal//NONSGML v1.0//EN
BEGIN:VEVENT
UID:825bcaa12de41acfd4814c183de5e17b
DTSTAMP:20260420T062817Z

DTSTART:20230203T110000
DTEND:20230205T160000
SUMMARY:Visalia Home and Patio SpringFest 2023
DESCRIPTION:Visalia Home and Patio SpringFest will be held Feb 3rd – 5th, 2023 in Visalia, CA. This Visalia home show is held at Visalia Convention Center and hosted by Visalia Home Shows.\n\nThe 28th Visalia Home and Patio SpringFest will have new features, handy products, expert services, DIY workshops, kids activities, great food and more! Find inspiration and ideas for new home renovations, or putting the finishing touches on your latest projects.

X-ALT-DESC;FMTTYPE=text/html:<!DOCTYPE HTML PUBLIC "-//W3C//DTD HTML 3.2//EN">\n<HTML>\n<HEAD>\n<META NAME="Generator" CONTENT="MS Exchange Server version 08.00.0681.000">\n<TITLE></TITLE>\n</HEAD>\n<BODY>\n<!-- Converted from text/rtf format -->\n\nVisalia Home and Patio SpringFest will be held Feb 3rd – 5th, 2023 in Visalia, CA. This Visalia home show is held at Visalia Convention Center and hosted by Visalia Home Shows.<br /><br />The 28th Visalia Home and Patio SpringFest will have new features, handy products, expert services, DIY workshops, kids activities, great food and more! Find inspiration and ideas for new home renovations, or putting the finishing touches on your latest projects.\n\n</BODY>\n</HTML>

LOCATION:East Acequia Avenue, Visalia, Tulare County, California, 93279, United States
END:VEVENT

END:VCALENDAR
