BEGIN:VCALENDAR
VERSION:2.0
PRODID:-//hacksw/handcal//NONSGML v1.0//EN
BEGIN:VEVENT
UID:ef74086506bda69b1624af7642aabd4c
DTSTAMP:20260420T020856Z

DTSTART:20230224T120000
DTEND:20230226T170000
SUMMARY:The Modesto Spring Home Improvement Show 2023
DESCRIPTION:The Modesto Spring Home Improvement Show will be held Feb 24th – 26th, 2023 in Modesto, CA. This Modesto home show is held at Modesto Centre Plaza and hosted by .\n\nThe The Modesto Spring Home Improvement Show is making updating and improving your home much easier! Guests can get tips and new ideas to help improve and beautify their homes and yards.

X-ALT-DESC;FMTTYPE=text/html:<!DOCTYPE HTML PUBLIC "-//W3C//DTD HTML 3.2//EN">\n<HTML>\n<HEAD>\n<META NAME="Generator" CONTENT="MS Exchange Server version 08.00.0681.000">\n<TITLE></TITLE>\n</HEAD>\n<BODY>\n<!-- Converted from text/rtf format -->\n\nThe Modesto Spring Home Improvement Show will be held Feb 24th – 26th, 2023 in Modesto, CA. This Modesto home show is held at Modesto Centre Plaza and hosted by .<br /><br />The The Modesto Spring Home Improvement Show is making updating and improving your home much easier! Guests can get tips and new ideas to help improve and beautify their homes and yards.\n\n</BODY>\n</HTML>

LOCATION:1000, L Street, Modesto, Stanislaus County, California, 95354, United States
END:VEVENT

END:VCALENDAR
