BEGIN:VCALENDAR
VERSION:2.0
PRODID:-//hacksw/handcal//NONSGML v1.0//EN
BEGIN:VEVENT
UID:76101e602356e5310e284addc917257d
DTSTAMP:20260420T054345Z

DTSTART:20230527T100000
DTEND:20230528T170000
SUMMARY:Truckee Home and Building Show 2023
DESCRIPTION:Truckee Home and Building Show will be held May 27th – 28th, 2023 in Truckee, CA. This Truckee home show is held at Truckee High School and hosted by .\n\nFind everything you'll need for remodeling, landscaping and decorating your mountain home! See the tons of innovative ways you can improve your home.

X-ALT-DESC;FMTTYPE=text/html:<!DOCTYPE HTML PUBLIC "-//W3C//DTD HTML 3.2//EN">\n<HTML>\n<HEAD>\n<META NAME="Generator" CONTENT="MS Exchange Server version 08.00.0681.000">\n<TITLE></TITLE>\n</HEAD>\n<BODY>\n<!-- Converted from text/rtf format -->\n\nTruckee Home and Building Show will be held May 27th – 28th, 2023 in Truckee, CA. This Truckee home show is held at Truckee High School and hosted by .<br /><br />Find everything you'll need for remodeling, landscaping and decorating your mountain home! See the tons of innovative ways you can improve your home.\n\n</BODY>\n</HTML>

LOCATION:11725, Donner Pass Road, Meadow Lake Park, Truckee, Nevada County, California, 96161, United States
END:VEVENT

END:VCALENDAR
