BEGIN:VCALENDAR
VERSION:2.0
PRODID:-//hacksw/handcal//NONSGML v1.0//EN
BEGIN:VEVENT
UID:83f8c05a351eebe59b111a6afecf6f9d
DTSTAMP:20260420T052126Z

DTSTART:20230106T140000
DTEND:20230108T170000
SUMMARY:Colorado Springs Home Building and Remodeling Show 2022
DESCRIPTION:Colorado Springs Home Building and Remodeling Show will be held Jan 6th – 8th, 2023 in Colorado Springs, CO. This Colorado Springs home show is held at Norris-Penrose Event Center and hosted by L and L Exhibition.\n\nThe Colorado Springs Home Building and Remodeling Show is a comprehensive expo filled with innovative displays showcasing the latest trends in design and product offerings. While you're exploring the highest quality displays, you will have the opportunity to talk directly with local experts and get the advice you need to help you with your home improvement projects.

X-ALT-DESC;FMTTYPE=text/html:<!DOCTYPE HTML PUBLIC "-//W3C//DTD HTML 3.2//EN">\n<HTML>\n<HEAD>\n<META NAME="Generator" CONTENT="MS Exchange Server version 08.00.0681.000">\n<TITLE></TITLE>\n</HEAD>\n<BODY>\n<!-- Converted from text/rtf format -->\n\nColorado Springs Home Building and Remodeling Show will be held Jan 6th – 8th, 2023 in Colorado Springs, CO. This Colorado Springs home show is held at Norris-Penrose Event Center and hosted by L and L Exhibition.<br /><br />The Colorado Springs Home Building and Remodeling Show is a comprehensive expo filled with innovative displays showcasing the latest trends in design and product offerings. While you're exploring the highest quality displays, you will have the opportunity to talk directly with local experts and get the advice you need to help you with your home improvement projects.\n\n</BODY>\n</HTML>

LOCATION:Norris Penrose Event Center, 1045, Lower Gold Camp Road, Gold Hill Mesa, Colorado Springs, El Paso County, Colorado, 80905, United States
END:VEVENT

END:VCALENDAR
