BEGIN:VCALENDAR
VERSION:2.0
PRODID:-//hacksw/handcal//NONSGML v1.0//EN
BEGIN:VEVENT
UID:b14d45a8e63858a3fc11f09237d5a187
DTSTAMP:20260420T060841Z

DTSTART:20230204T100000
DTEND:20230212T180000
SUMMARY:Colorado Garden and Home Show 2022
DESCRIPTION:Colorado Garden and Home Show will be held Feb 4th – 12th, 2023 in Denver, CO. This Denver home show is held at Colorado Convention Center and hosted by Colorado Garden Foundation.\n\nFind inspiration from the latest ideas and trends in landscaping, gardening and home improvement. This nine-day spectacular event is the region's oldest, largest and most prestigious garden and home show.

X-ALT-DESC;FMTTYPE=text/html:<!DOCTYPE HTML PUBLIC "-//W3C//DTD HTML 3.2//EN">\n<HTML>\n<HEAD>\n<META NAME="Generator" CONTENT="MS Exchange Server version 08.00.0681.000">\n<TITLE></TITLE>\n</HEAD>\n<BODY>\n<!-- Converted from text/rtf format -->\n\nColorado Garden and Home Show will be held Feb 4th – 12th, 2023 in Denver, CO. This Denver home show is held at Colorado Convention Center and hosted by Colorado Garden Foundation.<br /><br />Find inspiration from the latest ideas and trends in landscaping, gardening and home improvement. This nine-day spectacular event is the region's oldest, largest and most prestigious garden and home show.\n\n</BODY>\n</HTML>

LOCATION:Colorado Convention Center, 700, 14th Street, Central Business District, Denver, Colorado, 80202, United States
END:VEVENT

END:VCALENDAR
