BEGIN:VCALENDAR
VERSION:2.0
PRODID:-//hacksw/handcal//NONSGML v1.0//EN
BEGIN:VEVENT
UID:087e72b90cf6ebfd5b519c82b34cca78
DTSTAMP:20260420T010238Z

DTSTART:20220823T110000
DTEND:20220823T120000
SUMMARY:Effective Selling Strategies in a Shifting Market - Aug 23
DESCRIPTION:As our market begins to shift, we must re-focus on effective strategies to prepare, price, list, and negotiate home sales.\n\nIt’s been a long time since sellers have had to make any adjustments in the selling process, but with our market shifting the “list it and it will sell tomorrow” approach won’t be enough. Come to this class for an in-depth conversation on proven techniques and new strategies for selling homes in a shifting market.\n

X-ALT-DESC;FMTTYPE=text/html:<!DOCTYPE HTML PUBLIC "-//W3C//DTD HTML 3.2//EN">\n<HTML>\n<HEAD>\n<META NAME="Generator" CONTENT="MS Exchange Server version 08.00.0681.000">\n<TITLE></TITLE>\n</HEAD>\n<BODY>\n<!-- Converted from text/rtf format -->\n\nAs our market begins to shift, we must re-focus on effective strategies to prepare, price, list, and negotiate home sales.<br /><br />It’s been a long time since sellers have had to make any adjustments in the selling process, but with our market shifting the “list it and it will sell tomorrow” approach won’t be enough. Come to this class for an in-depth conversation on proven techniques and new strategies for selling homes in a shifting market.<br />\n\n</BODY>\n</HTML>

LOCATION:
END:VEVENT

END:VCALENDAR
