BEGIN:VCALENDAR
VERSION:2.0
PRODID:-//hacksw/handcal//NONSGML v1.0//EN
BEGIN:VEVENT
UID:b2b34e02f7676d8c0bb2abd3d70d3854
DTSTAMP:20260420T035716Z

DTSTART:20230909T100000
DTEND:20230910T170000
SUMMARY:Port St. Lucie Home Show - September 2023
DESCRIPTION:This Port St. Lucie home show is held at MIDFLORIDA Credit Union Event Center and hosted by East Coast Consumer Shows.\n\nThe Port St. Lucie Home Show is here to help you find everything for your home improvement projects! View and interact with the industry's hottest home and garden products! Meet with professionals who can help make your next remodeling, renovation, landscaping, patio or decorating project a big success.

X-ALT-DESC;FMTTYPE=text/html:<!DOCTYPE HTML PUBLIC "-//W3C//DTD HTML 3.2//EN">\n<HTML>\n<HEAD>\n<META NAME="Generator" CONTENT="MS Exchange Server version 08.00.0681.000">\n<TITLE></TITLE>\n</HEAD>\n<BODY>\n<!-- Converted from text/rtf format -->\n\nThis Port St. Lucie home show is held at MIDFLORIDA Credit Union Event Center and hosted by East Coast Consumer Shows.<br /><br />The Port St. Lucie Home Show is here to help you find everything for your home improvement projects! View and interact with the industry's hottest home and garden products! Meet with professionals who can help make your next remodeling, renovation, landscaping, patio or decorating project a big success.\n\n</BODY>\n</HTML>

LOCATION:Port Saint Lucie, Saint Lucie County, Florida, United States
END:VEVENT

END:VCALENDAR
