BEGIN:VCALENDAR
VERSION:2.0
PRODID:-//hacksw/handcal//NONSGML v1.0//EN
BEGIN:VEVENT
UID:f5f5f15016d71c13642c6a54409fa867
DTSTAMP:20260419T200124Z

DTSTART:20230316T170000
DTEND:20230319T160000
SUMMARY:The Boise Spring Home Show 2023
DESCRIPTION:The Boise Spring Home Show will be held Mar 16th – 19th, 2023 in Boise, ID. This Boise home show is held at Expo Idaho and hosted by Spectra Productions.\n\nThe Boise Spring Home Show will have hundreds of beautiful displays in one conventient location! There will be professional tips, remodeling ideas, landscaping, new products, expert advice and so much more!

X-ALT-DESC;FMTTYPE=text/html:<!DOCTYPE HTML PUBLIC "-//W3C//DTD HTML 3.2//EN">\n<HTML>\n<HEAD>\n<META NAME="Generator" CONTENT="MS Exchange Server version 08.00.0681.000">\n<TITLE></TITLE>\n</HEAD>\n<BODY>\n<!-- Converted from text/rtf format -->\n\nThe Boise Spring Home Show will be held Mar 16th – 19th, 2023 in Boise, ID. This Boise home show is held at Expo Idaho and hosted by Spectra Productions.<br /><br />The Boise Spring Home Show will have hundreds of beautiful displays in one conventient location! There will be professional tips, remodeling ideas, landscaping, new products, expert advice and so much more!\n\n</BODY>\n</HTML>

LOCATION:North Glenwood Street, Garden City, Ada County, Idaho, 83714, United States
END:VEVENT

END:VCALENDAR
