BEGIN:VCALENDAR
VERSION:2.0
PRODID:-//hacksw/handcal//NONSGML v1.0//EN
BEGIN:VEVENT
UID:3169e4e9279ba9bcb2d37e83fd07e3c3
DTSTAMP:20260420T025127Z

DTSTART:20230210T120000
DTEND:20230212T170000
SUMMARY:Indiana Home and Garden Show 2023
DESCRIPTION:Indiana Home and Garden Show will be held Feb 10th – 12th, 2023 in Indianapolis, IN. This Indianapolis home show is held at Indiana Convention Center and hosted by L and L Exhibition.\n\nThe Indiana Home and Garden Show wants to connect you to the area's leading remodelers, builders and design professionals! They'll have displays and exhibits, opportunities to speak to experts and even more events. There will be opportunities to receive advice and inspiration.

X-ALT-DESC;FMTTYPE=text/html:<!DOCTYPE HTML PUBLIC "-//W3C//DTD HTML 3.2//EN">\n<HTML>\n<HEAD>\n<META NAME="Generator" CONTENT="MS Exchange Server version 08.00.0681.000">\n<TITLE></TITLE>\n</HEAD>\n<BODY>\n<!-- Converted from text/rtf format -->\n\nIndiana Home and Garden Show will be held Feb 10th – 12th, 2023 in Indianapolis, IN. This Indianapolis home show is held at Indiana Convention Center and hosted by L and L Exhibition.<br /><br />The Indiana Home and Garden Show wants to connect you to the area's leading remodelers, builders and design professionals! They'll have displays and exhibits, opportunities to speak to experts and even more events. There will be opportunities to receive advice and inspiration.\n\n</BODY>\n</HTML>

LOCATION:Indiana Convention Center, 100, South Capitol Avenue, Indianapolis, Marion, Indiana, 46225, United States
END:VEVENT

END:VCALENDAR
