BEGIN:VCALENDAR
VERSION:2.0
PRODID:-//hacksw/handcal//NONSGML v1.0//EN
BEGIN:VEVENT
UID:07f5cd4def99fdd7ccb9ee9b01203c10
DTSTAMP:20260419T212056Z

DTSTART:20230210T100000
DTEND:20230212T160000
SUMMARY:Suburban Indy Spring Home and Outdoor Living Show 2023
DESCRIPTION:Suburban Indy Spring Home and Outdoor Living Show will be held Feb 10th – 12th, 2023 in Westfield, IN. This Westfield home show is held at Grand Park Events Center and hosted by Suburban Indy Shows.\n\nPurchase and sample local food and wine, shop with local artists, purchase your autumn decor from local garden centers and find out what's on trend for Fall and the upcoming holiday season! You'll find more than you would expect at this home and outdoor living show!

X-ALT-DESC;FMTTYPE=text/html:<!DOCTYPE HTML PUBLIC "-//W3C//DTD HTML 3.2//EN">\n<HTML>\n<HEAD>\n<META NAME="Generator" CONTENT="MS Exchange Server version 08.00.0681.000">\n<TITLE></TITLE>\n</HEAD>\n<BODY>\n<!-- Converted from text/rtf format -->\n\nSuburban Indy Spring Home and Outdoor Living Show will be held Feb 10th – 12th, 2023 in Westfield, IN. This Westfield home show is held at Grand Park Events Center and hosted by Suburban Indy Shows.<br /><br />Purchase and sample local food and wine, shop with local artists, purchase your autumn decor from local garden centers and find out what's on trend for Fall and the upcoming holiday season! You'll find more than you would expect at this home and outdoor living show!\n\n</BODY>\n</HTML>

LOCATION:Grand Park Boulevard, Westfield, Hamilton County, Indiana, 46074, United States
END:VEVENT

END:VCALENDAR
