BEGIN:VCALENDAR
VERSION:2.0
PRODID:-//hacksw/handcal//NONSGML v1.0//EN
BEGIN:VEVENT
UID:98a53ef38d24341756a27f2c05a40fd3
DTSTAMP:20260419T232133Z

DTSTART:20230113T140000
DTEND:20230115T170000
SUMMARY:Louisville Build, Renovate and Landscape Expo 2023
DESCRIPTION:Louisville Build, Renovate and Landscape Expo will be held Jan 13th – 15th, 2023 in Louisville, KY. This Louisville home show is held at Kentucky International Convention Center and hosted by L and L Exhibition.\n\nAre you ready to make the most of your Spring? Launch a remodeling project! The Louisville Build, Renovate and Landscape Expo is a comprehemsive event to show you the latest in trends and products. Explore high quality displays, talk with local experts and get the advice you need for your next great home improvement project!

X-ALT-DESC;FMTTYPE=text/html:<!DOCTYPE HTML PUBLIC "-//W3C//DTD HTML 3.2//EN">\n<HTML>\n<HEAD>\n<META NAME="Generator" CONTENT="MS Exchange Server version 08.00.0681.000">\n<TITLE></TITLE>\n</HEAD>\n<BODY>\n<!-- Converted from text/rtf format -->\n\nLouisville Build, Renovate and Landscape Expo will be held Jan 13th – 15th, 2023 in Louisville, KY. This Louisville home show is held at Kentucky International Convention Center and hosted by L and L Exhibition.<br /><br />Are you ready to make the most of your Spring? Launch a remodeling project! The Louisville Build, Renovate and Landscape Expo is a comprehemsive event to show you the latest in trends and products. Explore high quality displays, talk with local experts and get the advice you need for your next great home improvement project!\n\n</BODY>\n</HTML>

LOCATION:Louisville, Jefferson County, Kentucky, United States
END:VEVENT

END:VCALENDAR
