BEGIN:VCALENDAR
VERSION:2.0
PRODID:-//hacksw/handcal//NONSGML v1.0//EN
BEGIN:VEVENT
UID:3cc5293e3d085f8bb70b300b5f89d143
DTSTAMP:20260419T200341Z

DTSTART:20230310T100000
DTEND:20230312T180000
SUMMARY:Maryland Spring Home and Garden Show Second Weekend - 2023
DESCRIPTION:Maryland Spring Home and Garden Show will be held Mar 10th-12th, 2023 in Timonium, MD. This Timonium home show is held at Maryland State Fairgrounds and hosted by Maryland Home and Garden Shows.\n\nAre you looking to update, remodel or redecorate this Spring? The Maryland Home and Garden Show is here to help! This is an opportunity to see hundreds of contractors in one location and purchase hand-made crafts. There will be many exhibitors offering special show pricing. Don't miss it!

X-ALT-DESC;FMTTYPE=text/html:<!DOCTYPE HTML PUBLIC "-//W3C//DTD HTML 3.2//EN">\n<HTML>\n<HEAD>\n<META NAME="Generator" CONTENT="MS Exchange Server version 08.00.0681.000">\n<TITLE></TITLE>\n</HEAD>\n<BODY>\n<!-- Converted from text/rtf format -->\n\nMaryland Spring Home and Garden Show will be held Mar 10th-12th, 2023 in Timonium, MD. This Timonium home show is held at Maryland State Fairgrounds and hosted by Maryland Home and Garden Shows.<br /><br />Are you looking to update, remodel or redecorate this Spring? The Maryland Home and Garden Show is here to help! This is an opportunity to see hundreds of contractors in one location and purchase hand-made crafts. There will be many exhibitors offering special show pricing. Don't miss it!\n\n</BODY>\n</HTML>

LOCATION:Timonium, Baltimore County, Maryland, 21093, United States
END:VEVENT

END:VCALENDAR
