BEGIN:VCALENDAR
VERSION:2.0
PRODID:-//hacksw/handcal//NONSGML v1.0//EN
BEGIN:VEVENT
UID:3242f15c81cc3b9132cb50f874feaf1c
DTSTAMP:20260419T195913Z

DTSTART:20230218T100000
DTEND:20230219T160000
SUMMARY:Macomb Spring Home Improvement Show 2023
DESCRIPTION:Macomb Spring Home Improvement Show will be held Feb 18th – 19th, 2023 in Warren, MI. This Warren home show is held at Macomb Sports and Expo Center and hosted by Gazette Events.\n\nThe Macomb Spring Home Improvement Show is the place for homeowners to be. There will be plenty to see and do as you get ready to start on your home improvement projects.

X-ALT-DESC;FMTTYPE=text/html:<!DOCTYPE HTML PUBLIC "-//W3C//DTD HTML 3.2//EN">\n<HTML>\n<HEAD>\n<META NAME="Generator" CONTENT="MS Exchange Server version 08.00.0681.000">\n<TITLE></TITLE>\n</HEAD>\n<BODY>\n<!-- Converted from text/rtf format -->\n\nMacomb Spring Home Improvement Show will be held Feb 18th – 19th, 2023 in Warren, MI. This Warren home show is held at Macomb Sports and Expo Center and hosted by Gazette Events.<br /><br />The Macomb Spring Home Improvement Show is the place for homeowners to be. There will be plenty to see and do as you get ready to start on your home improvement projects.\n\n</BODY>\n</HTML>

LOCATION:14500, East 12 Mile Road, Warren, Macomb County, Michigan, 48088, United States
END:VEVENT

END:VCALENDAR
