BEGIN:VCALENDAR
VERSION:2.0
PRODID:-//hacksw/handcal//NONSGML v1.0//EN
BEGIN:VEVENT
UID:331de7d9dbb366604b3bace16f842dbe
DTSTAMP:20260420T060755Z

DTSTART:20221029T100000
DTEND:20221029T160000
SUMMARY:Shakopee Home Show 2022
DESCRIPTION:Shakopee Home Show will be held Oct 29th, 2022 in Shakopee, MN. This Shakopee home show is held at Canterbury Park Expo Center and hosted by Minnesota Home Shows.\n\nCome out to visit Shakopee's Premier home improvement show! There will be everything for home improvement, decor, remodeling and landscaping!

X-ALT-DESC;FMTTYPE=text/html:<!DOCTYPE HTML PUBLIC "-//W3C//DTD HTML 3.2//EN">\n<HTML>\n<HEAD>\n<META NAME="Generator" CONTENT="MS Exchange Server version 08.00.0681.000">\n<TITLE></TITLE>\n</HEAD>\n<BODY>\n<!-- Converted from text/rtf format -->\n\nShakopee Home Show will be held Oct 29th, 2022 in Shakopee, MN. This Shakopee home show is held at Canterbury Park Expo Center and hosted by Minnesota Home Shows.<br /><br />Come out to visit Shakopee's Premier home improvement show! There will be everything for home improvement, decor, remodeling and landscaping!\n\n</BODY>\n</HTML>

LOCATION:Canterbury Road South, Shakopee, Scott County, Minnesota, 55379, United States
END:VEVENT

END:VCALENDAR
