BEGIN:VCALENDAR
VERSION:2.0
PRODID:-//hacksw/handcal//NONSGML v1.0//EN
BEGIN:VEVENT
UID:ce646405b6e841edf88852df6e0c1aa2
DTSTAMP:20260420T120501Z

DTSTART:20230318T100000
DTEND:20230318T160000
SUMMARY:Maple Grove Home Show 2023
DESCRIPTION:Maple Grove Home Show will be held Nov 19th, 2022 in Maple Grove, MN. This Maple Grove home show is held at Maple Grove Community Center and hosted by Minnesota Home Shows.\n\nCome out to visit Maple Grove's Premier home improvement show! There will be everything for home improvement, decor, remodeling and landscaping!

X-ALT-DESC;FMTTYPE=text/html:<!DOCTYPE HTML PUBLIC "-//W3C//DTD HTML 3.2//EN">\n<HTML>\n<HEAD>\n<META NAME="Generator" CONTENT="MS Exchange Server version 08.00.0681.000">\n<TITLE></TITLE>\n</HEAD>\n<BODY>\n<!-- Converted from text/rtf format -->\n\nMaple Grove Home Show will be held Nov 19th, 2022 in Maple Grove, MN. This Maple Grove home show is held at Maple Grove Community Center and hosted by Minnesota Home Shows.<br /><br />Come out to visit Maple Grove's Premier home improvement show! There will be everything for home improvement, decor, remodeling and landscaping!\n\n</BODY>\n</HTML>

LOCATION:Maple Grove Community Center, 12951, Weaver Lake Road, Maple Grove, Hennepin County, Minnesota, 55369, United States
END:VEVENT

END:VCALENDAR
