BEGIN:VCALENDAR
VERSION:2.0
PRODID:-//hacksw/handcal//NONSGML v1.0//EN
BEGIN:VEVENT
UID:773685625dcc57b3e2835952b7f3225e
DTSTAMP:20260420T022941Z

DTSTART:20230401T000000
DTEND:20230401T000000
SUMMARY:Eagan Home Show 2023
DESCRIPTION:Eagan Home Show will be held Apr 1st, 2023 in Eagan, MN. This Eagan home show is held at Eagan Community Center and hosted by Minnesota Home Shows.\n\nCome out to visit Eagan's Home Show! It's the perfect place to plan your next home improvement project. There will be everything for home improvement, decor, remodeling and landscaping!

X-ALT-DESC;FMTTYPE=text/html:<!DOCTYPE HTML PUBLIC "-//W3C//DTD HTML 3.2//EN">\n<HTML>\n<HEAD>\n<META NAME="Generator" CONTENT="MS Exchange Server version 08.00.0681.000">\n<TITLE></TITLE>\n</HEAD>\n<BODY>\n<!-- Converted from text/rtf format -->\n\nEagan Home Show will be held Apr 1st, 2023 in Eagan, MN. This Eagan home show is held at Eagan Community Center and hosted by Minnesota Home Shows.<br /><br />Come out to visit Eagan's Home Show! It's the perfect place to plan your next home improvement project. There will be everything for home improvement, decor, remodeling and landscaping!\n\n</BODY>\n</HTML>

LOCATION:Eagan Community Center, 1501, Central Parkway, Eagan, Dakota County, Minnesota, 55121, United States
END:VEVENT

END:VCALENDAR
