BEGIN:VCALENDAR
VERSION:2.0
PRODID:-//hacksw/handcal//NONSGML v1.0//EN
BEGIN:VEVENT
UID:3da71f756635f50e9bd5de08a855f1a6
DTSTAMP:20260420T062929Z

DTSTART:20230203T100000
DTEND:20230205T150000
SUMMARY:KC Remodel and Garden Show 2023
DESCRIPTION:KC Remodel and Garden Show will be held Feb 3rd – 5th, 2023 in Kansas City, MO. This Kansas City home show is held at American Royal Center and hosted by .\n\nThe KC Remodel and Garden Show will have unique events, speakers, hundreds of exhibitors and vendors with everything you'll need to create a dream home! Shop unique decor, art pieces, specialty foods, local artisans and more. There will also be a Landscapers Lane and Garden Market for outdoor ideas.

X-ALT-DESC;FMTTYPE=text/html:<!DOCTYPE HTML PUBLIC "-//W3C//DTD HTML 3.2//EN">\n<HTML>\n<HEAD>\n<META NAME="Generator" CONTENT="MS Exchange Server version 08.00.0681.000">\n<TITLE></TITLE>\n</HEAD>\n<BODY>\n<!-- Converted from text/rtf format -->\n\nKC Remodel and Garden Show will be held Feb 3rd – 5th, 2023 in Kansas City, MO. This Kansas City home show is held at American Royal Center and hosted by .<br /><br />The KC Remodel and Garden Show will have unique events, speakers, hundreds of exhibitors and vendors with everything you'll need to create a dream home! Shop unique decor, art pieces, specialty foods, local artisans and more. There will also be a Landscapers Lane and Garden Market for outdoor ideas.\n\n</BODY>\n</HTML>

LOCATION:American Royal Court, West Side, Kansas City, Jackson County, Missouri, 64102, United States
END:VEVENT

END:VCALENDAR
