BEGIN:VCALENDAR
VERSION:2.0
PRODID:-//hacksw/handcal//NONSGML v1.0//EN
BEGIN:VEVENT
UID:05064be3712126aa28d8ece60bdbb744
DTSTAMP:20260420T091754Z

DTSTART:20230331T120000
DTEND:20230402T160000
SUMMARY:Great Falls Home and Garden Show and Sale 2023
DESCRIPTION:Great Falls Home and Garden Show and Sale will be held Mar 31st – Apr 2nd, 2023 in Great Falls, MT. This Great Falls home show is held at Montana Expo Park and hosted by .\n\nFind hundreds of new ideas, great deals, and well-qualified local experts for all your remodeling, home improvement, and home building needs, all under one roof. You’ll find exactly what you’re looking for. Shop, compare, and save for three days only!

X-ALT-DESC;FMTTYPE=text/html:<!DOCTYPE HTML PUBLIC "-//W3C//DTD HTML 3.2//EN">\n<HTML>\n<HEAD>\n<META NAME="Generator" CONTENT="MS Exchange Server version 08.00.0681.000">\n<TITLE></TITLE>\n</HEAD>\n<BODY>\n<!-- Converted from text/rtf format -->\n\nGreat Falls Home and Garden Show and Sale will be held Mar 31st – Apr 2nd, 2023 in Great Falls, MT. This Great Falls home show is held at Montana Expo Park and hosted by .<br /><br />Find hundreds of new ideas, great deals, and well-qualified local experts for all your remodeling, home improvement, and home building needs, all under one roof. You’ll find exactly what you’re looking for. Shop, compare, and save for three days only!\n\n</BODY>\n</HTML>

LOCATION:327, 2nd Street South, Downtown, Great Falls, Cascade County, Montana, 59405, United States
END:VEVENT

END:VCALENDAR
