BEGIN:VCALENDAR
VERSION:2.0
PRODID:-//hacksw/handcal//NONSGML v1.0//EN
BEGIN:VEVENT
UID:6edd2284718c89f43471dbfeb2daed23
DTSTAMP:20260420T070701Z

DTSTART:20230304T100000
DTEND:20230305T160000
SUMMARY:New Hampshire State Home Show 2023
DESCRIPTION:New Hampshire State Home Show will be held Mar 4th – 5th, 2023 in Manchester, NH. This Manchester home show is held at DoubleTree by Hilton Manchester and hosted by .\n\nThis year is the 56th Annual New Hampshire State Home Show. There will be over 300 vendors and exhibitors covering all aspects of home building and remodeling. There will also be a Junior Lego Build competition, seminars and demos.

X-ALT-DESC;FMTTYPE=text/html:<!DOCTYPE HTML PUBLIC "-//W3C//DTD HTML 3.2//EN">\n<HTML>\n<HEAD>\n<META NAME="Generator" CONTENT="MS Exchange Server version 08.00.0681.000">\n<TITLE></TITLE>\n</HEAD>\n<BODY>\n<!-- Converted from text/rtf format -->\n\nNew Hampshire State Home Show will be held Mar 4th – 5th, 2023 in Manchester, NH. This Manchester home show is held at DoubleTree by Hilton Manchester and hosted by .<br /><br />This year is the 56th Annual New Hampshire State Home Show. There will be over 300 vendors and exhibitors covering all aspects of home building and remodeling. There will also be a Junior Lego Build competition, seminars and demos.\n\n</BODY>\n</HTML>

LOCATION:DoubleTree by Hilton Manchester Downtown, 700, Elm Street, Manchester, Hillsborough County, New Hampshire, 03101, United States
END:VEVENT

END:VCALENDAR
