BEGIN:VCALENDAR
VERSION:2.0
PRODID:-//hacksw/handcal//NONSGML v1.0//EN
BEGIN:VEVENT
UID:8bcf8895d61862c49429419a6dbb7a8a
DTSTAMP:20260420T092749Z

DTSTART:20221020T100000
DTEND:20221020T120000
SUMMARY:Buying & Selling Distressed and Foreclosure Homes
DESCRIPTION:As the market slows you'll encounter more sellers facing foreclosure and/or short sale.\n\nThis class provides an overview of the foreclosure process and guidance on how to work with distressed sellers, including the appropriate contract forms and strategic ways to complete them, whether you represent the buyer or the seller.\n\n

X-ALT-DESC;FMTTYPE=text/html:<!DOCTYPE HTML PUBLIC "-//W3C//DTD HTML 3.2//EN">\n<HTML>\n<HEAD>\n<META NAME="Generator" CONTENT="MS Exchange Server version 08.00.0681.000">\n<TITLE></TITLE>\n</HEAD>\n<BODY>\n<!-- Converted from text/rtf format -->\n\nAs the market slows you'll encounter more sellers facing foreclosure and/or short sale.<br /><br />This class provides an overview of the foreclosure process and guidance on how to work with distressed sellers, including the appropriate contract forms and strategic ways to complete them, whether you represent the buyer or the seller.<br /><br />\n\n</BODY>\n</HTML>

LOCATION:
END:VEVENT

END:VCALENDAR
