BEGIN:VCALENDAR
VERSION:2.0
PRODID:-//hacksw/handcal//NONSGML v1.0//EN
BEGIN:VEVENT
UID:2e6e9a76136213bf4354f7e5102b497c
DTSTAMP:20260420T050104Z

DTSTART:20221025T110000
DTEND:20221025T130000
SUMMARY:The Colorado Purchase and Sale Agreement: Explained for Investors
DESCRIPTION:This class takes you through the entire contract from start to finish, including the short sale addendum.\n\nIf you're a real estate investor making offers on your own, or through your real estate agent, you must become familiar with the key provisions of the standard purchase and sale agreement. This class takes you through the entire contract from start to finish, including the short sale addendum. This class is perfect for real estate investors needing a contract refresher.

X-ALT-DESC;FMTTYPE=text/html:<!DOCTYPE HTML PUBLIC "-//W3C//DTD HTML 3.2//EN">\n<HTML>\n<HEAD>\n<META NAME="Generator" CONTENT="MS Exchange Server version 08.00.0681.000">\n<TITLE></TITLE>\n</HEAD>\n<BODY>\n<!-- Converted from text/rtf format -->\n\nThis class takes you through the entire contract from start to finish, including the short sale addendum.<br /><br />If you're a real estate investor making offers on your own, or through your real estate agent, you must become familiar with the key provisions of the standard purchase and sale agreement. This class takes you through the entire contract from start to finish, including the short sale addendum. This class is perfect for real estate investors needing a contract refresher.\n\n</BODY>\n</HTML>

LOCATION:
END:VEVENT

END:VCALENDAR
