BEGIN:VCALENDAR
VERSION:2.0
PRODID:-//hacksw/handcal//NONSGML v1.0//EN
BEGIN:VEVENT
UID:86eb9a55ee54fd51852951f291abcc03
DTSTAMP:20260420T054211Z

DTSTART:20231007T100000
DTEND:20231009T170000
SUMMARY:Portland Fall Home and Garden Show 2023
DESCRIPTION:Portland Fall Home and Garden Show will be held Oct 7th – 9th, 2023 in Portland, OR. This Portland home show is held at Portland Expo Center.

X-ALT-DESC;FMTTYPE=text/html:<!DOCTYPE HTML PUBLIC "-//W3C//DTD HTML 3.2//EN">\n<HTML>\n<HEAD>\n<META NAME="Generator" CONTENT="MS Exchange Server version 08.00.0681.000">\n<TITLE></TITLE>\n</HEAD>\n<BODY>\n<!-- Converted from text/rtf format -->\n\nPortland Fall Home and Garden Show will be held Oct 7th – 9th, 2023 in Portland, OR. This Portland home show is held at Portland Expo Center.\n\n</BODY>\n</HTML>

LOCATION:Portland Expo Center, 2060, North Marine Drive, Kenton, Portland, Multnomah County, Oregon, 97217, United States
END:VEVENT

END:VCALENDAR
