BEGIN:VCALENDAR
VERSION:2.0
PRODID:-//hacksw/handcal//NONSGML v1.0//EN
BEGIN:VEVENT
UID:8e73e0c40b68f98e92f191743cee0b90
DTSTAMP:20260420T035659Z

DTSTART:20230302T120000
DTEND:20230305T180000
SUMMARY:PA Home and Garden Design Expo 2023
DESCRIPTION:PA Home and Garden Design Expo will be held Mar 2nd – 5th, 2023 in Harrisburg, PA. This Harrisburg home show is held at The Farm Show Complex.\n\nThe PA Home and Garden Design Expo is here to help you find everything you'll need to beauty, update and maintain your home!

X-ALT-DESC;FMTTYPE=text/html:<!DOCTYPE HTML PUBLIC "-//W3C//DTD HTML 3.2//EN">\n<HTML>\n<HEAD>\n<META NAME="Generator" CONTENT="MS Exchange Server version 08.00.0681.000">\n<TITLE></TITLE>\n</HEAD>\n<BODY>\n<!-- Converted from text/rtf format -->\n\nPA Home and Garden Design Expo will be held Mar 2nd – 5th, 2023 in Harrisburg, PA. This Harrisburg home show is held at The Farm Show Complex.<br /><br />The PA Home and Garden Design Expo is here to help you find everything you'll need to beauty, update and maintain your home!\n\n</BODY>\n</HTML>

LOCATION:Pennsylvania Farm Show Complex and Expo Center, 2300, North Cameron Street, Hillside Village, Harrisburg, Dauphin County, Pennsylvania, 17110, United States
END:VEVENT

END:VCALENDAR
