BEGIN:VCALENDAR
VERSION:2.0
PRODID:-//hacksw/handcal//NONSGML v1.0//EN
BEGIN:VEVENT
UID:9b789203e00ef5062aa7b446300b0e83
DTSTAMP:20260421T035958Z

DTSTART:20230303T100000
DTEND:20230312T220000
SUMMARY:Duquesne Light Home and Garden Show 2023
DESCRIPTION:Duquesne Light Home and Garden Show will be held Mar 3rd – 12th, 2023 in Pittsburgh, PA. This Pittsburgh home show is held at Pittsburgh Convention Center and hosted by PGH Home.\n\nThe 40th Annual Duquesne Light Pittsburgh Home and Garden Show is the region's most trusted marketplace. Everything for your home will be within 20 acres!

X-ALT-DESC;FMTTYPE=text/html:<!DOCTYPE HTML PUBLIC "-//W3C//DTD HTML 3.2//EN">\n<HTML>\n<HEAD>\n<META NAME="Generator" CONTENT="MS Exchange Server version 08.00.0681.000">\n<TITLE></TITLE>\n</HEAD>\n<BODY>\n<!-- Converted from text/rtf format -->\n\nDuquesne Light Home and Garden Show will be held Mar 3rd – 12th, 2023 in Pittsburgh, PA. This Pittsburgh home show is held at Pittsburgh Convention Center and hosted by PGH Home.<br /><br />The 40th Annual Duquesne Light Pittsburgh Home and Garden Show is the region's most trusted marketplace. Everything for your home will be within 20 acres!\n\n</BODY>\n</HTML>

LOCATION:1000, Fort Duquesne Boulevard, Cultural District, Downtown, Pittsburgh, Allegheny County, Pennsylvania, 15222, United States
END:VEVENT

END:VCALENDAR
