BEGIN:VCALENDAR
VERSION:2.0
PRODID:-//hacksw/handcal//NONSGML v1.0//EN
BEGIN:VEVENT
UID:a78e0139a55292e2ff9efb379a912dd4
DTSTAMP:20260420T020851Z

DTSTART:20230224T100000
DTEND:20230226T170000
SUMMARY:Sioux Empire Home Show 2023
DESCRIPTION:Sioux Empire Home Show will be held Feb 24th – 26th, 2023 in Sioux Falls, SD. This Sioux Falls home show is held at Sioux Falls Convention Center and Arena and hosted by .\n\nFind the best deals for your home at the Sioux Empire Home Show! Shop the hottest home-related products and trends, get inspired for your next home project and have fun doing it.\n\nWhether you're building, renovating, landscaping or looking for new ideas, there's something for everyone to check out. Meet the professionals first hand as you walk throughout the area's longest running home and outdoor living show.

X-ALT-DESC;FMTTYPE=text/html:<!DOCTYPE HTML PUBLIC "-//W3C//DTD HTML 3.2//EN">\n<HTML>\n<HEAD>\n<META NAME="Generator" CONTENT="MS Exchange Server version 08.00.0681.000">\n<TITLE></TITLE>\n</HEAD>\n<BODY>\n<!-- Converted from text/rtf format -->\n\nSioux Empire Home Show will be held Feb 24th – 26th, 2023 in Sioux Falls, SD. This Sioux Falls home show is held at Sioux Falls Convention Center and Arena and hosted by .<br /><br />Find the best deals for your home at the Sioux Empire Home Show! Shop the hottest home-related products and trends, get inspired for your next home project and have fun doing it.<br /><br />Whether you're building, renovating, landscaping or looking for new ideas, there's something for everyone to check out. Meet the professionals first hand as you walk throughout the area's longest running home and outdoor living show.\n\n</BODY>\n</HTML>

LOCATION:1201, North West Avenue, Sioux Falls, Minnehaha County, South Dakota, 57104, United States
END:VEVENT

END:VCALENDAR
