BEGIN:VCALENDAR
VERSION:2.0
PRODID:-//hacksw/handcal//NONSGML v1.0//EN
BEGIN:VEVENT
UID:4804d9eccca2804042f9cde7775a14c9
DTSTAMP:20260419T181928Z

DTSTART:20230107T100000
DTEND:20230108T170000
SUMMARY:Knoxville Home Expo 2023
DESCRIPTION:Knoxville Home Expo will be held Jan 7th – 8th, 2023 in Knoxville, TN. This Knoxville home show is held at Knoxville Convention Center and hosted by East Coast Consumer Shows.\n\nThe Knoxville Home Expo is here to help you find everything for your home improvement projects! View and interact with the industry's hottest home and garden products! Meet with professionals who can help make your next remodeling, renovation, landscaping, patio or decorating project a big success.

X-ALT-DESC;FMTTYPE=text/html:<!DOCTYPE HTML PUBLIC "-//W3C//DTD HTML 3.2//EN">\n<HTML>\n<HEAD>\n<META NAME="Generator" CONTENT="MS Exchange Server version 08.00.0681.000">\n<TITLE></TITLE>\n</HEAD>\n<BODY>\n<!-- Converted from text/rtf format -->\n\nKnoxville Home Expo will be held Jan 7th – 8th, 2023 in Knoxville, TN. This Knoxville home show is held at Knoxville Convention Center and hosted by East Coast Consumer Shows.<br /><br />The Knoxville Home Expo is here to help you find everything for your home improvement projects! View and interact with the industry's hottest home and garden products! Meet with professionals who can help make your next remodeling, renovation, landscaping, patio or decorating project a big success.\n\n</BODY>\n</HTML>

LOCATION:701, Henley Street, Knoxville Central Business District, Fort Sanders, Knoxville, Knox County, Tennessee, 37902, United States
END:VEVENT

END:VCALENDAR
